<?xml version="1.0" encoding="UTF-8" standalone="no"?>
<metadata xml:lang="en">
<Esri>
<CreaDate>20240529</CreaDate>
<CreaTime>15441300</CreaTime>
<ArcGISFormat>1.0</ArcGISFormat>
<SyncOnce>FALSE</SyncOnce>
<DataProperties>
<itemProps>
<itemName Sync="TRUE">HUimpact_clip_wm.tif</itemName>
<itemLocation>
<linkage Sync="TRUE">file://Z:\SWRA\Task_8_HVRA_NVC_WildEST\People_n_Property\projected\HUimpact_clip_wm.tif</linkage>
<protocol Sync="TRUE">Local Area Network</protocol>
</itemLocation>
<nativeExtBox>
<westBL Sync="TRUE">-11595733.006439</westBL>
<eastBL Sync="TRUE">-8273503.006439</eastBL>
<southBL Sync="TRUE">2727405.672186</southBL>
<northBL Sync="TRUE">5022285.672186</northBL>
<exTypeCode Sync="TRUE">1</exTypeCode>
</nativeExtBox>
<imsContentType Sync="TRUE">002</imsContentType>
</itemProps>
<coordRef>
<type Sync="TRUE">Projected</type>
<geogcsn Sync="TRUE">GCS_WGS_1984</geogcsn>
<csUnits Sync="TRUE">Linear Unit: Meter (1.000000)</csUnits>
<projcsn Sync="TRUE">WGS_1984_Web_Mercator_Auxiliary_Sphere</projcsn>
<peXml Sync="TRUE">&lt;ProjectedCoordinateSystem xsi:type='typens:ProjectedCoordinateSystem' xmlns:xsi='http://www.w3.org/2001/XMLSchema-instance' xmlns:xs='http://www.w3.org/2001/XMLSchema' xmlns:typens='http://www.esri.com/schemas/ArcGIS/3.2.0'&gt;&lt;WKT&gt;PROJCS[&amp;quot;WGS_1984_Web_Mercator_Auxiliary_Sphere&amp;quot;,GEOGCS[&amp;quot;GCS_WGS_1984&amp;quot;,DATUM[&amp;quot;D_WGS_1984&amp;quot;,SPHEROID[&amp;quot;WGS_1984&amp;quot;,6378137.0,298.257223563]],PRIMEM[&amp;quot;Greenwich&amp;quot;,0.0],UNIT[&amp;quot;Degree&amp;quot;,0.0174532925199433]],PROJECTION[&amp;quot;Mercator_Auxiliary_Sphere&amp;quot;],PARAMETER[&amp;quot;False_Easting&amp;quot;,0.0],PARAMETER[&amp;quot;False_Northing&amp;quot;,0.0],PARAMETER[&amp;quot;Central_Meridian&amp;quot;,0.0],PARAMETER[&amp;quot;Standard_Parallel_1&amp;quot;,0.0],PARAMETER[&amp;quot;Auxiliary_Sphere_Type&amp;quot;,0.0],UNIT[&amp;quot;Meter&amp;quot;,1.0],AUTHORITY[&amp;quot;EPSG&amp;quot;,3857]]&lt;/WKT&gt;&lt;XOrigin&gt;-20037700&lt;/XOrigin&gt;&lt;YOrigin&gt;-30241100&lt;/YOrigin&gt;&lt;XYScale&gt;148923141.92838538&lt;/XYScale&gt;&lt;ZOrigin&gt;-100000&lt;/ZOrigin&gt;&lt;ZScale&gt;10000&lt;/ZScale&gt;&lt;MOrigin&gt;-100000&lt;/MOrigin&gt;&lt;MScale&gt;10000&lt;/MScale&gt;&lt;XYTolerance&gt;0.001&lt;/XYTolerance&gt;&lt;ZTolerance&gt;0.001&lt;/ZTolerance&gt;&lt;MTolerance&gt;0.001&lt;/MTolerance&gt;&lt;HighPrecision&gt;true&lt;/HighPrecision&gt;&lt;WKID&gt;102100&lt;/WKID&gt;&lt;LatestWKID&gt;3857&lt;/LatestWKID&gt;&lt;/ProjectedCoordinateSystem&gt;</peXml>
</coordRef>
<RasterProperties>
<General>
<PixelDepth Sync="TRUE">32</PixelDepth>
<HasColormap Sync="TRUE">FALSE</HasColormap>
<CompressionType Sync="TRUE">LZW</CompressionType>
<NumBands Sync="TRUE">1</NumBands>
<Format Sync="TRUE">TIFF</Format>
<HasPyramids Sync="TRUE">TRUE</HasPyramids>
<SourceType Sync="TRUE">continuous</SourceType>
<PixelType Sync="TRUE">floating point</PixelType>
<NoDataValue Sync="TRUE">-9999</NoDataValue>
</General>
</RasterProperties>
<lineage>
<Process Date="20240529" Name="Clip Raster" Time="154414" ToolSource="c:\program files\arcgis\pro\Resources\ArcToolbox\toolboxes\Data Management Tools.tbx\Clip">Clip Z:\SWRA\Task_8_HVRA_NVC_WildEST\People_n_Property\HUimpact.tif "-682449.6643 258945 1839165 2006510.0846" Z:\SWRA\Task_8_HVRA_NVC_WildEST\WildEST\projected\HUimpact_clip.tif Z:\SWRA\Task_8_HVRA_NVC_WildEST\1_2_Project_boundaries\TxRemove.gdb\FOA_Tx_Union -9999 ClippingGeometry NO_MAINTAIN_EXTENT</Process>
<Process Date="20240605" Time="132656" ToolSource="c:\program files\arcgis\pro\Resources\ArcToolbox\toolboxes\Data Management Tools.tbx\ProjectRaster">ProjectRaster "Housing Unit Impact" Z:\SWRA\Task_8_HVRA_NVC_WildEST\People_n_Property\projected\HUimpact_clip_wm.tif PROJCS["WGS_1984_Web_Mercator_Auxiliary_Sphere",GEOGCS["GCS_WGS_1984",DATUM["D_WGS_1984",SPHEROID["WGS_1984",6378137.0,298.257223563]],PRIMEM["Greenwich",0.0],UNIT["Degree",0.0174532925199433]],PROJECTION["Mercator_Auxiliary_Sphere"],PARAMETER["False_Easting",0.0],PARAMETER["False_Northing",0.0],PARAMETER["Central_Meridian",0.0],PARAMETER["Standard_Parallel_1",0.0],PARAMETER["Auxiliary_Sphere_Type",0.0],UNIT["Meter",1.0]] "Nearest neighbor" "30 30" WGS_1984_(ITRF00)_To_NAD_1983 # PROJCS["NAD_1983_Contiguous_USA_Albers",GEOGCS["GCS_North_American_1983",DATUM["D_North_American_1983",SPHEROID["GRS_1980",6378137.0,298.257222101]],PRIMEM["Greenwich",0.0],UNIT["Degree",0.0174532925199433]],PROJECTION["Albers"],PARAMETER["False_Easting",0.0],PARAMETER["False_Northing",0.0],PARAMETER["Central_Meridian",-96.0],PARAMETER["Standard_Parallel_1",29.5],PARAMETER["Standard_Parallel_2",45.5],PARAMETER["Latitude_Of_Origin",23.0],UNIT["Meter",1.0]] NO_VERTICAL</Process>
<Process Date="20240605" Time="133007" ToolSource="c:\program files\arcgis\pro\Resources\ArcToolbox\toolboxes\Data Management Tools.tbx\Rename">Rename Z:\SWRA\Task_8_HVRA_NVC_WildEST\People_n_Property\projected\HUimpact_clip_wm.tif Z:\SWRA\Task_8_HVRA_NVC_WildEST\People_n_Property\projected\HUimpact_clip.tif RasterDataset</Process>
</lineage>
</DataProperties>
<SyncDate>20240605</SyncDate>
<SyncTime>13265600</SyncTime>
<ModDate>20240605</ModDate>
<ModTime>13265600</ModTime>
<scaleRange>
<minScale>150000000</minScale>
<maxScale>5000</maxScale>
</scaleRange>
</Esri>
<mdLang>
<languageCode Sync="TRUE" value="eng"/>
<countryCode Sync="TRUE" value="USA"/>
</mdLang>
<mdChar>
<CharSetCd value="004"/>
</mdChar>
<mdHrLv>
<ScopeCd value="005"/>
</mdHrLv>
<mdHrLvName Sync="TRUE">dataset</mdHrLvName>
<mdDateSt Sync="TRUE">20240510</mdDateSt>
<distInfo>
<distFormat>
<formatName Sync="TRUE">Raster Dataset</formatName>
</distFormat>
</distInfo>
<dataIdInfo>
<idPurp>The purpose of the Southern Wildfire Risk Assessment (SWRA) is to provide foundational information about wildfire hazard across all land ownership in the United States Forest Service Southern Region (Region 8). Such information supports fuel management planning decisions, as well as revisions to land and resource management plans. A wildfire risk assessment is a quantitative analysis of potential impacts by wildfire.</idPurp>
<idAbs>&lt;DIV STYLE="text-align:Left;"&gt;&lt;DIV&gt;&lt;DIV&gt;&lt;P STYLE="margin:0 0 0 0;"&gt;&lt;SPAN&gt;This dataset is a 30-m cell size representation of people and property to depict wildfire risk to communities. The methods for creating this dataset are the same as the Wildfire Risk to Communities project (WRC).&lt;/SPAN&gt;&lt;/P&gt;&lt;P STYLE="margin:0 0 0 0;"&gt;&lt;SPAN /&gt;&lt;/P&gt;&lt;P STYLE="margin:0 0 0 0;"&gt;&lt;SPAN&gt;&lt;SPAN&gt;Jaffe, Melissa R.; Scott, Joe H.; Callahan, Michael N.; Dillon, Gregory K.; Karau, Eva C.; Lazarz, Mitchell T. (In Review). Wildfire Risk to Communities: Spatial datasets of wildfire risk for populated areas in the United States. Fort Collins, CO: Forest Service Research Data Archive. &lt;/SPAN&gt;&lt;/SPAN&gt;&lt;A href="https://doi.org/10.2737/RDS-2020-0060"&gt;&lt;SPAN&gt;&lt;SPAN&gt;https://doi.org/10.2737/RDS-2020-0060&lt;/SPAN&gt;&lt;/SPAN&gt;&lt;/A&gt;&lt;/P&gt;&lt;P STYLE="margin:0 0 0 0;"&gt;&lt;SPAN /&gt;&lt;SPAN /&gt;&lt;/P&gt;&lt;P STYLE="margin:0 0 0 0;"&gt;&lt;SPAN STYLE="font-weight:bold;"&gt;This dataset represents the relative potential impact to housing units if a fire were to occur. Housing Unit Impact (HUImpact) incorporates the general consequences of fire on a home as a function of fire intensity and uses flame length probabilities from wildfire modeling to capture likely intensity of fire. HUImpact does not include the likelihood of fire occurring, and it does not reflect mitigations done to individual structures that would influence susceptibility. It is similar to Conditional Risk to Potential Structures (cRPS) in Scott et al. (in prep2024), but also incorporates housing unit density and distance from burnable land cover.&lt;/SPAN&gt;&lt;/P&gt;&lt;/DIV&gt;&lt;/DIV&gt;&lt;/DIV&gt;</idAbs>
<idCredit>Primary data contact: The Southern Wildfire Risk Assessment (www.SouthernWildfireRisk.com) is sponsored by the Southern Group of State Foresters (https://southernforests.org) and managed by Texas A&amp;M Forest Service. Send an email to SouthWRAP-Support@tfs.tamu.edu for inquiries.
This dataset was developed for the Southern Wildfire Risk Assessment by Pyrologix LLC (www.pyrologix.com), a subsidiary of Vibrant Planet (www.vibrantplanet.net).</idCredit>
<idCitation>
<resTitle>HUrisk.tif</resTitle>
<date>
<pubDate>2024-04-30T00:00:00</pubDate>
</date>
<presForm>
<PresFormCd Sync="TRUE" value="005"/>
</presForm>
</idCitation>
<searchKeys>
<keyword>Housing-Unit</keyword>
<keyword>Impact</keyword>
<keyword>Housing-Unit</keyword>
<keyword>Risk</keyword>
<keyword>SWRA</keyword>
<keyword>Southern</keyword>
<keyword>Wildfire</keyword>
<keyword>Risk</keyword>
<keyword>Assessment</keyword>
<keyword>SouthWRAP</keyword>
<keyword>Southern</keyword>
<keyword>Wildfire</keyword>
<keyword>Risk</keyword>
<keyword>Assessment</keyword>
<keyword>Portal</keyword>
<keyword>SGSF</keyword>
<keyword>Southern</keyword>
<keyword>Group</keyword>
<keyword>of</keyword>
<keyword>State</keyword>
<keyword>Foresters</keyword>
</searchKeys>
<resConst>
<Consts>
<useLimit/>
</Consts>
</resConst>
<dataChar>
<CharSetCd value="004"/>
</dataChar>
<idStatus>
<ProgCd value="001"/>
</idStatus>
<resMaint>
<maintFreq>
<MaintFreqCd value="012"/>
</maintFreq>
</resMaint>
<envirDesc Sync="TRUE"> Version 6.2 (Build 9200) ; Esri ArcGIS 10.7.1.11595</envirDesc>
<dataLang>
<languageCode Sync="TRUE" value="eng"/>
<countryCode Sync="TRUE" value="USA"/>
</dataLang>
<spatRpType>
<SpatRepTypCd Sync="TRUE" value="002"/>
</spatRpType>
<dataExt>
<geoEle>
<GeoBndBox esriExtentType="search">
<exTypeCode Sync="TRUE">1</exTypeCode>
<westBL Sync="TRUE">-108.810722</westBL>
<eastBL Sync="TRUE">-74.241674</eastBL>
<northBL Sync="TRUE">41.338825</northBL>
<southBL Sync="TRUE">23.623724</southBL>
</GeoBndBox>
</geoEle>
</dataExt>
</dataIdInfo>
<spatRepInfo>
<Georect>
<cellGeo>
<CellGeoCd Sync="TRUE" value="002"/>
</cellGeo>
<numDims Sync="TRUE">2</numDims>
<tranParaAv Sync="TRUE">1</tranParaAv>
<chkPtAv Sync="TRUE">0</chkPtAv>
<cornerPts>
<pos Sync="TRUE">-1070355.000000 240885.000000</pos>
</cornerPts>
<cornerPts>
<pos Sync="TRUE">-1070355.000000 2036925.000000</pos>
</cornerPts>
<cornerPts>
<pos Sync="TRUE">1839165.000000 2036925.000000</pos>
</cornerPts>
<cornerPts>
<pos Sync="TRUE">1839165.000000 240885.000000</pos>
</cornerPts>
<centerPt>
<pos Sync="TRUE">384405.000000 1138905.000000</pos>
</centerPt>
<axisDimension type="002">
<dimSize Sync="TRUE">96984</dimSize>
<dimResol>
<value Sync="TRUE" uom="m">30.000000</value>
</dimResol>
</axisDimension>
<axisDimension type="001">
<dimSize Sync="TRUE">59868</dimSize>
<dimResol>
<value Sync="TRUE" uom="m">30.000000</value>
</dimResol>
</axisDimension>
<ptInPixel>
<PixOrientCd Sync="TRUE" value="001"/>
</ptInPixel>
</Georect>
</spatRepInfo>
<refSysInfo>
<RefSystem>
<refSysID>
<identCode Sync="TRUE" code="5070"/>
<idCodeSpace Sync="TRUE">EPSG</idCodeSpace>
<idVersion Sync="TRUE">7.4.6(10.1.0)</idVersion>
</refSysID>
</RefSystem>
</refSysInfo>
<contInfo>
<ImgDesc>
<contentTyp>
<ContentTypCd Sync="TRUE" value="001"/>
</contentTyp>
<covDim>
<Band>
<dimDescrp Sync="TRUE">Band_1</dimDescrp>
<maxVal Sync="TRUE">1718483968.000000</maxVal>
<minVal Sync="TRUE">0.000000</minVal>
<bitsPerVal Sync="TRUE">32</bitsPerVal>
<valUnit>
<UOM type="length"/>
</valUnit>
</Band>
</covDim>
</ImgDesc>
</contInfo>
</metadata>
