https://doi.org/10.2737/RDS-2020-0060<\/SPAN><\/SPAN><\/A><\/P><\/P>
This dataset represents the relative potential impact to housing units if a fire were to occur. Housing Unit Impact (HUImpact) incorporates the general consequences of fire on a home as a function of fire intensity and uses flame length probabilities from wildfire modeling to capture likely intensity of fire. HUImpact does not include the likelihood of fire occurring, and it does not reflect mitigations done to individual structures that would influence susceptibility. It is similar to Conditional Risk to Potential Structures (cRPS) in Scott et al. (in prep2024), but also incorporates housing unit density and distance from burnable land cover.<\/SPAN><\/P><\/DIV><\/DIV><\/DIV>",
"extent": {
"xmin": -1.1545425437957773E7,
"ymin": 2801648.6098902365,
"xmax": -8349495.437957773,
"ymax": 4840238.6098902365,
"spatialReference": {
"wkid": 102100,
"latestWkid": 3857
}
},
"initialExtent": {
"xmin": -1.1545425437957773E7,
"ymin": 2801648.6098902365,
"xmax": -8349495.437957773,
"ymax": 4840238.6098902365,
"spatialReference": {
"wkid": 102100,
"latestWkid": 3857
}
},
"fullExtent": {
"xmin": -1.1545425437957773E7,
"ymin": 2801648.6098902365,
"xmax": -8349495.437957773,
"ymax": 4840238.6098902365,
"spatialReference": {
"wkid": 102100,
"latestWkid": 3857
}
},
"sortableFields": "",
"bandCount": 1,
"pixelType": "F32",
"minValues": [
0
],
"maxValues": [
1718483968
],
"meanValues": [
328145.53001681
],
"stdvValues": [
1478394.5754887
],
"hasMultidimensions": false,
"pixelSizeX": 30,
"pixelSizeY": 30,
"meanPixelSize": 30,
"datasetFormat": "TIFF",
"uncompressedSize": 28956404172,
"blockWidth": 128,
"blockHeight": 128,
"compressionType": "None",
"bandNames": [
"Band_1"
],
"allowCopy": true,
"allowAnalysis": true,
"itemAccess": false,
"inspectionCapabilities": "",
"noDataValue": -3.4028234663852886E38,
"noDataValues": [
-3.4028234663852886E38
],
"minPixelSize": 0,
"maxPixelSize": 0,
"copyrightText": "Primary data contact: The Southern Wildfire Risk Assessment (www.SouthernWildfireRisk.com) is sponsored by the Southern Group of State Foresters (https://southernforests.org) and managed by Texas A&M Forest Service. Send an email to SouthWRAP-Support@tfs.tamu.edu for inquiries.\n\nThis dataset was developed for the Southern Wildfire Risk Assessment by Pyrologix LLC (www.pyrologix.com), a subsidiary of Vibrant Planet (www.vibrantplanet.net).",
"serviceDataType": "esriImageServiceDataTypeGeneric",
"serviceSourceType": "esriImageServiceSourceTypeDataset",
"objectIdField": "",
"fields": [],
"capabilities": "Image,Metadata,Mensuration",
"defaultMosaicMethod": "Center",
"allowedMosaicMethods": "",
"sortField": "",
"sortValue": null,
"sortAscending": true,
"mosaicOperator": "First",
"maxDownloadSizeLimit": 2097196,
"defaultCompressionQuality": 75,
"defaultResamplingMethod": "Bilinear",
"maxImageHeight": 4100,
"maxImageWidth": 15000,
"allowRasterFunction": true,
"rasterFunctionInfos": [
{
"name": "None",
"description": "",
"help": ""
}
],
"rasterTypeInfos": [
{
"name": "Raster Dataset",
"description": "Supports all ArcGIS Raster Datasets",
"help": ""
}
],
"mensurationCapabilities": "Basic",
"hasHistograms": true,
"hasColormap": false,
"hasRasterAttributeTable": false,
"minScale": 0,
"maxScale": 0,
"exportTilesAllowed": false,
"supportsStatistics": false,
"supportsAdvancedQueries": false,
"editFieldsInfo": null,
"ownershipBasedAccessControlForRasters": null,
"allowComputeTiePoints": false,
"useStandardizedQueries": true,
"advancedQueryCapabilities": {
"useStandardizedQueries": true,
"supportsStatistics": false,
"supportsOrderBy": false,
"supportsDistinct": false,
"supportsPagination": false
},
"spatialReference": {
"wkid": 102100,
"latestWkid": 3857
}
}