{
 "currentVersion": 11.2,
 "serviceDescription": "TxWRAP/FIS_smooth_quad_img",
 "name": "TxWRAP/FIS_smooth_quad_img",
 "description": "",
 "extent": {
  "xmin": 1493848.4013999999,
  "ymin": 6769377.338300001,
  "xmax": 2282318.4014,
  "ymax": 7467167.338300001,
  "spatialReference": {
   "wkid": 102601,
   "latestWkid": 3083
  }
 },
 "initialExtent": {
  "xmin": 1493848.4013999999,
  "ymin": 6769377.338300001,
  "xmax": 2282318.4014,
  "ymax": 7467167.338300001,
  "spatialReference": {
   "wkid": 102601,
   "latestWkid": 3083
  }
 },
 "fullExtent": {
  "xmin": 1493848.4013999999,
  "ymin": 6769377.338300001,
  "xmax": 2282318.4014,
  "ymax": 7467167.338300001,
  "spatialReference": {
   "wkid": 102601,
   "latestWkid": 3083
  }
 },
 "sortableFields": "",
 "bandCount": 1,
 "pixelType": "S32",
 "minValues": [
  0
 ],
 "maxValues": [
  79221
 ],
 "meanValues": [
  3445.7739033919
 ],
 "stdvValues": [
  5515.264719482
 ],
 "hasMultidimensions": false,
 "pixelSizeX": 10,
 "pixelSizeY": 10,
 "meanPixelSize": 10,
 "datasetFormat": "TIFF",
 "uncompressedSize": 22007459252,
 "blockWidth": 128,
 "blockHeight": 128,
 "compressionType": "LZW",
 "bandNames": [
  "Band_1"
 ],
 "allowCopy": true,
 "allowAnalysis": true,
 "itemAccess": false,
 "inspectionCapabilities": "",
 "noDataValue": -2147483648,
 "noDataValues": [
  -2147483648
 ],
 "minPixelSize": 0,
 "maxPixelSize": 0,
 "copyrightText": "",
 "serviceDataType": "esriImageServiceDataTypeGeneric",
 "serviceSourceType": "esriImageServiceSourceTypeDataset",
 "objectIdField": "",
 "fields": [],
 "capabilities": "Image,Metadata,Mensuration",
 "defaultMosaicMethod": "Center",
 "allowedMosaicMethods": "",
 "sortField": "",
 "sortValue": null,
 "sortAscending": true,
 "mosaicOperator": "First",
 "defaultCompressionQuality": 75,
 "defaultResamplingMethod": "Bilinear",
 "maxImageHeight": 4100,
 "maxImageWidth": 15000,
 "allowRasterFunction": true,
 "rasterFunctionInfos": [
  {
   "name": "None",
   "description": "",
   "help": ""
  }
 ],
 "rasterTypeInfos": [
  {
   "name": "Raster Dataset",
   "description": "Supports all ArcGIS Raster Datasets",
   "help": ""
  }
 ],
 "mensurationCapabilities": "Basic",
 "hasHistograms": true,
 "hasColormap": false,
 "hasRasterAttributeTable": false,
 "minScale": 0,
 "maxScale": 0,
 "exportTilesAllowed": false,
 "supportsStatistics": false,
 "supportsAdvancedQueries": false,
 "editFieldsInfo": null,
 "ownershipBasedAccessControlForRasters": null,
 "allowComputeTiePoints": false,
 "useStandardizedQueries": true,
 "advancedQueryCapabilities": {
  "useStandardizedQueries": true,
  "supportsStatistics": false,
  "supportsOrderBy": false,
  "supportsDistinct": false,
  "supportsPagination": false
 },
 "spatialReference": {
  "wkid": 102601,
  "latestWkid": 3083
 }
}
