{ "currentVersion": 11.2, "serviceDescription": "
This spatial dataset was produced with the Wildfire Exposure Simulation Tool (WildEST), a cloud-based geospatial fire behavior characteristic simulation system. WildEST performs multiple deterministic simulations under a range of weather types (wind speed, wind direction, fuel moisture content) and weights those results based on weather type probabilities (WTP).<\/SPAN><\/P> This conditional risk to potential structures (cRPS) dataset represents the potential consequences of fire to a home at a given location, if a fire occurs there and if a home were located there. It is a measure that integrates wildfire intensity with generalized consequences to a home on every pixel, but does not account for the actual probability of fire occurrence.<\/SPAN><\/P> The response function characterizing potential consequences to an exposed structure was applied to all burnable fuel types on the landscape regardless of whether an actual structure is present or not. The response function does not consider building materials of structures and is meant as an measure of the effect of fire intensity on structure exposure. was calculated using WildEST wildfire behavior results and the following wildfire response functions based on vegetation lifeform (Tree, shrub, grass):<\/SPAN><\/P> \tFlame length probability of 0-2 ft: 25, 20, 10<\/SPAN><\/P> \tFlame length probability of 2-4 ft: 40, 35, 20<\/SPAN><\/P> \tFlame length probability of 4-6 ft: 55, 50, 40<\/SPAN><\/P> \tFlame length probability of 6-8 ft: 70, 65, 55<\/SPAN><\/P> \tFlame length probability of 8-12 ft: 85, 80, 70<\/SPAN><\/P> \tFlame length probability of >12 ft: 100, 95, 85<\/SPAN><\/P> <\/P> These results were calculated using WildEST wildfire behavior results and then further smoothed. A cRPS value of 0 means no damage to a structure, and a value of 100 means complete loss.<\/SPAN><\/P><\/DIV><\/DIV><\/DIV>",
"name": "TxWRAP/conditional_risk_to_potential_structures_img",
"description": " This spatial dataset was produced with the Wildfire Exposure Simulation Tool (WildEST), a cloud-based geospatial fire behavior characteristic simulation system. WildEST performs multiple deterministic simulations under a range of weather types (wind speed, wind direction, fuel moisture content) and weights those results based on weather type probabilities (WTP).<\/SPAN><\/P> This conditional risk to potential structures (cRPS) dataset represents the potential consequences of fire to a home at a given location, if a fire occurs there and if a home were located there. It is a measure that integrates wildfire intensity with generalized consequences to a home on every pixel, but does not account for the actual probability of fire occurrence.<\/SPAN><\/P> The response function characterizing potential consequences to an exposed structure was applied to all burnable fuel types on the landscape regardless of whether an actual structure is present or not. The response function does not consider building materials of structures and is meant as an measure of the effect of fire intensity on structure exposure. was calculated using WildEST wildfire behavior results and the following wildfire response functions based on vegetation lifeform (Tree, shrub, grass):<\/SPAN><\/P> \tFlame length probability of 0-2 ft: 25, 20, 10<\/SPAN><\/P> \tFlame length probability of 2-4 ft: 40, 35, 20<\/SPAN><\/P> \tFlame length probability of 4-6 ft: 55, 50, 40<\/SPAN><\/P> \tFlame length probability of 6-8 ft: 70, 65, 55<\/SPAN><\/P> \tFlame length probability of 8-12 ft: 85, 80, 70<\/SPAN><\/P> \tFlame length probability of >12 ft: 100, 95, 85<\/SPAN><\/P> <\/P> These results were calculated using WildEST wildfire behavior results and then further smoothed. A cRPS value of 0 means no damage to a structure, and a value of 100 means complete loss.<\/SPAN><\/P><\/DIV><\/DIV><\/DIV>",
"extent": {
"xmin": -1.2003310552985873E7,
"ymin": 2879427.4371621246,
"xmax": -1.0271400552985873E7,
"ymax": 4490777.437162125,
"spatialReference": {
"wkid": 102100,
"latestWkid": 3857
}
},
"initialExtent": {
"xmin": -1.2003310552985873E7,
"ymin": 2879427.4371621246,
"xmax": -1.0271400552985873E7,
"ymax": 4490777.437162125,
"spatialReference": {
"wkid": 102100,
"latestWkid": 3857
}
},
"fullExtent": {
"xmin": -1.2003310552985873E7,
"ymin": 2879427.4371621246,
"xmax": -1.0271400552985873E7,
"ymax": 4490777.437162125,
"spatialReference": {
"wkid": 102100,
"latestWkid": 3857
}
},
"sortableFields": "",
"bandCount": 1,
"pixelType": "F32",
"minValues": [
0
],
"maxValues": [
100
],
"meanValues": [
45.833937930495
],
"stdvValues": [
18.942117686217
],
"hasMultidimensions": false,
"pixelSizeX": 10,
"pixelSizeY": 10,
"meanPixelSize": 10,
"datasetFormat": "TIFF",
"uncompressedSize": 111628527140,
"blockWidth": 128,
"blockHeight": 128,
"compressionType": "LZW",
"bandNames": [
"Band_1"
],
"allowCopy": true,
"allowAnalysis": true,
"itemAccess": false,
"inspectionCapabilities": "",
"noDataValue": -3.4028230607370965E38,
"noDataValues": [
-3.4028230607370965E38
],
"minPixelSize": 0,
"maxPixelSize": 0,
"copyrightText": "Primary data contact: Texas A&M Forest Service, Forest Resource Protection Division, Applied Technology Department. Send an email to TxWRAP-Support@tfs.tamu.edu for inquires. Visit www.TexasWildfireRisk.com for additional information.\n\nThis dataset was developed for the Texas Wildfire Risk Assessment by Pyrologix LLC (www.pyrologix.com), a subsidiary of Vibrant Planet (www.vibrantplanet.net).",
"serviceDataType": "esriImageServiceDataTypeGeneric",
"serviceSourceType": "esriImageServiceSourceTypeDataset",
"objectIdField": "",
"fields": [],
"capabilities": "Image,Metadata,Mensuration",
"defaultMosaicMethod": "Center",
"allowedMosaicMethods": "",
"sortField": "",
"sortValue": null,
"sortAscending": true,
"mosaicOperator": "First",
"defaultCompressionQuality": 75,
"defaultResamplingMethod": "Bilinear",
"maxImageHeight": 4100,
"maxImageWidth": 15000,
"allowRasterFunction": true,
"rasterFunctionInfos": [
{
"name": "None",
"description": "",
"help": ""
}
],
"rasterTypeInfos": [
{
"name": "Raster Dataset",
"description": "Supports all ArcGIS Raster Datasets",
"help": ""
}
],
"mensurationCapabilities": "Basic",
"hasHistograms": true,
"hasColormap": false,
"hasRasterAttributeTable": false,
"minScale": 0,
"maxScale": 0,
"exportTilesAllowed": false,
"supportsStatistics": false,
"supportsAdvancedQueries": false,
"editFieldsInfo": null,
"ownershipBasedAccessControlForRasters": null,
"allowComputeTiePoints": false,
"useStandardizedQueries": true,
"advancedQueryCapabilities": {
"useStandardizedQueries": true,
"supportsStatistics": false,
"supportsOrderBy": false,
"supportsDistinct": false,
"supportsPagination": false
},
"spatialReference": {
"wkid": 102100,
"latestWkid": 3857
}
}