{
 "currentVersion": 11.2,
 "cimVersion": "3.2.0",
 "serviceDescription": "Functional WUI represents a classification of the land near buildings* into zones that generally describe wildfire exposure to structures and risk mitigation activities appropriate for each.\n\nPrimary Exposure \u2014 The Primary Exposure zone identifies where structures are immediately nearby (within 75m of) burnable land cover. Reducing fire intensity and ember production in this zone would reduce the exposure of nearby buildings to heat and embers. Buildings in this zone also require hardening of the structure to resist ignition.\n\nSecondary Exposure \u2014 The Secondary Exposure zone identifies land where structures are within 1500 m of burnable land cover, meaning homes in this zone could be impacted by lofted embers or by home-to-home spread even though they are not immediately located with vegetation types classified as burnable. Structures in this zone would benefit from the hardening of the structure to resist ignition from embers and nearby structures, but defensible space is usually not required due to the heavily developed nature of the zone.\n\nSources of Ember Load to Buildings \u2014 These are areas of burnable land cover that produces embers capable of reaching nearby buildings. Ember production is a function of fire type and intensity, and ember travel is a function of wind speed and direction. Fuel treatment in this zone is a priority for reducing ember load to the nearby buildings.\n\nWildfire Transmission Zone \u2014 The Wildfire Transmission Zone is the unpopulated land within about 2.4 km of a group of structures. Fires that originate within or spread to the Wildfire Transmission Zone have an immediate threat of reaching the nearby structures; fuel treatments that slow fire spread in this zone can reduce risk to these structures.\n\nLow-to-No Exposure \u2014 The Low-to-No Exposure zone identifies where structures beyond 1500m from a large (500 ha) contiguous blocks of burnable land cover. Flames\u2014even from home-to-home spread\u2014and embers have a relatively low likelihood of reaching structures in this zone, but smoke and evacuations could still impact this area.\n\nWater \u2014 Classified as Non-burnable Water (NB8) in the Surface Fuel Map.\n\nNo Data \u2014 These areas are beyond the Wildfire Transmission Zone and generally considered far enough from communities to not pose a threat to structures.\n\n*Buildings used in producing Functional WUI are defined as greater than 40 m2.\n\nData Source: Texas Wildfire Risk Assessment, Pyrologix 2023 (includes fuel disturbances through 2022)",
 "mapName": "Functional WUI",
 "description": "",
 "copyrightText": "Primary data contact: Texas A&M Forest Service, Forest Resource Protection Division, Applied Technology Department. Send an email to TxWRAP-Support@tfs.tamu.edu for inquires. Visit www.TexasWildfireRisk.com for additional information.This dataset was developed for the Texas Wildfire Risk Assessment by Pyrologix LLC (www.pyrologix.com), a subsidiary of Vibrant Planet (www.vibrantplanet.net).",
 "supportsDynamicLayers": true,
 "layers": [
  {
   "id": 0,
   "name": "Functional Wildland Urban Interface",
   "parentLayerId": -1,
   "defaultVisibility": true,
   "subLayerIds": null,
   "minScale": 0,
   "maxScale": 0,
   "type": "Raster Layer",
   "supportsDynamicLegends": true
  }
 ],
 "tables": [],
 "spatialReference": {
  "wkid": 102100,
  "latestWkid": 3857,
  "xyTolerance": 0.001,
  "zTolerance": 0.001,
  "mTolerance": 0.001,
  "falseX": -20037700,
  "falseY": -30241100,
  "xyUnits": 10000,
  "falseZ": -100000,
  "zUnits": 10000,
  "falseM": -100000,
  "mUnits": 10000
 },
 "singleFusedMapCache": true,
 "tileInfo": {
  "rows": 256,
  "cols": 256,
  "dpi": 96,
  "format": "Mixed",
  "compressionQuality": 75,
  "origin": {
   "x": -2.0037508342787E7,
   "y": 2.0037508342787E7
  },
  "spatialReference": {
   "wkid": 102100,
   "latestWkid": 3857,
   "xyTolerance": 0.001,
   "zTolerance": 0.001,
   "mTolerance": 0.001,
   "falseX": -20037700,
   "falseY": -30241100,
   "xyUnits": 1.4892314192838538E8,
   "falseZ": -100000,
   "zUnits": 10000,
   "falseM": -100000,
   "mUnits": 10000
  },
  "lods": [
   {
    "level": 0,
    "resolution": 156543.033928,
    "scale": 5.91657527591555E8
   },
   {
    "level": 1,
    "resolution": 78271.5169639999,
    "scale": 2.95828763795777E8
   },
   {
    "level": 2,
    "resolution": 39135.7584820001,
    "scale": 1.47914381897889E8
   },
   {
    "level": 3,
    "resolution": 19567.8792409999,
    "scale": 7.3957190948944E7
   },
   {
    "level": 4,
    "resolution": 9783.93962049996,
    "scale": 3.6978595474472E7
   },
   {
    "level": 5,
    "resolution": 4891.96981024998,
    "scale": 1.8489297737236E7
   },
   {
    "level": 6,
    "resolution": 2445.98490512499,
    "scale": 9244648.868618
   },
   {
    "level": 7,
    "resolution": 1222.99245256249,
    "scale": 4622324.434309
   },
   {
    "level": 8,
    "resolution": 611.49622628138,
    "scale": 2311162.217155
   },
   {
    "level": 9,
    "resolution": 305.748113140558,
    "scale": 1155581.108577
   },
   {
    "level": 10,
    "resolution": 152.874056570411,
    "scale": 577790.554289
   },
   {
    "level": 11,
    "resolution": 76.4370282850732,
    "scale": 288895.277144
   },
   {
    "level": 12,
    "resolution": 38.2185141425366,
    "scale": 144447.638572
   },
   {
    "level": 13,
    "resolution": 19.1092570712683,
    "scale": 72223.819286
   },
   {
    "level": 14,
    "resolution": 9.55462853563415,
    "scale": 36111.909643
   },
   {
    "level": 15,
    "resolution": 4.77731426794937,
    "scale": 18055.954822
   },
   {
    "level": 16,
    "resolution": 2.38865713397468,
    "scale": 9027.977411
   },
   {
    "level": 17,
    "resolution": 1.19432856685505,
    "scale": 4513.988705
   },
   {
    "level": 18,
    "resolution": 0.597164283559817,
    "scale": 2256.994353
   },
   {
    "level": 19,
    "resolution": 0.298582141647617,
    "scale": 1128.497176
   },
   {
    "level": 20,
    "resolution": 0.14929107082380833,
    "scale": 564.248588
   },
   {
    "level": 21,
    "resolution": 0.07464553541190416,
    "scale": 282.124294
   },
   {
    "level": 22,
    "resolution": 0.03732276770595208,
    "scale": 141.062147
   },
   {
    "level": 23,
    "resolution": 0.01866138385297604,
    "scale": 70.5310735
   }
  ]
 },
 "storageInfo": {
  "storageFormat": "esriMapCacheStorageModeCompactV2",
  "packetSize": 128
 },
 "initialExtent": {
  "xmin": -1.2428550127532741E7,
  "ymin": 2827424.8816056307,
  "xmax": -9846160.978439005,
  "ymax": 4542779.992718618,
  "spatialReference": {
   "cs": "pcs",
   "wkid": 102100
  }
 },
 "fullExtent": {
  "xmin": -1.2003310552985873E7,
  "ymin": 2879427.4371621246,
  "xmax": -1.0271400552985873E7,
  "ymax": 4490777.437162125,
  "spatialReference": {
   "cs": "pcs",
   "wkid": 102100
  }
 },
 "datesInUnknownTimezone": false,
 "minScale": 5.91657527591555E8,
 "maxScale": 0,
 "minLOD": 0,
 "maxLOD": 17,
 "units": "esriMeters",
 "supportedImageFormatTypes": "PNG32,PNG24,PNG,JPG,DIB,TIFF,EMF,PS,PDF,GIF,SVG,SVGZ,BMP",
 "documentInfo": {
  "Title": "Housing Unit Risk1",
  "Author": "",
  "Comments": "",
  "Subject": "",
  "Category": "",
  "Version": "3.2.0",
  "AntialiasingMode": "Fast",
  "TextAntialiasingMode": "Force",
  "Keywords": "Functional WUI, TWRA, Texas Wildfire Risk Assessment, TxWRAP,Texas Wildfire Risk Assessment Portal,TFS,TAMFS,Texas A&M Forest Service"
 },
 "supportsQueryDomains": true,
 "capabilities": "Map,Query,Data",
 "supportedQueryFormats": "JSON, geoJSON, PBF",
 "exportTilesAllowed": true,
 "maxExportTilesCount": 100000,
 "referenceScale": 0.0,
 "supportsDatumTransformation": true,
 "archivingInfo": {
  "supportsHistoricMoment": false
 },
 "supportsClipping": true,
 "supportsSpatialFilter": true,
 "supportsTimeRelation": true,
 "supportsQueryDataElements": true,
 "mapUnits": {
  "uwkid": 9001
 },
 "maxRecordCount": 2000,
 "maxImageHeight": 4096,
 "maxImageWidth": 4096,
 "supportedExtensions": "WMSServer",
 "resampling": true
}
