{ "currentVersion": 11.2, "serviceDescription": "
This spatial dataset was produced with the Wildfire Exposure Simulation Tool (WildEST), a cloud-based geospatial fire behavior characteristic simulation system. WildEST performs multiple deterministic simulations under a range of weather types (wind speed, wind direction, fuel moisture content) and weights those results based on weather type probabilities (WTP).<\/span><\/p> The Functional WUI dataset was generated from a comprehensive building footprint dataset, fire intensity modeling, and simulation of ember production and transport. <\/span><\/p> The Direct Exposure zone is burnable land cover within 75 m of a structure. Reducing fire intensity and ember production in this zone would reduce the exposure of nearby buildings to heat and embers. Buildings in this zone also require hardening of the structure to resist ignition. Residents of this zone should:<\/span><\/p> Build or renovate to a very high standard of ignition resistance<\/span><\/p><\/li> Maintain ornamental and natural vegetation in a way that minimizes flammability within the home ignition zone.<\/span><\/p><\/li> Make a business or household plan for evacuating in the event of a wildfire<\/span><\/p><\/li><\/ul> <\/p> The Indirect Exposure zone is nonburnable land cover within 1500 m of burnable land cover that is within 75 m of a structure, meaning that embers and home-to-home spread could reach within this zone. Indirectly exposed structures would benefit from the hardening of the structure to resist ignition from embers and nearby structures, but defensible space is usually not required due to the heavily developed nature of the zone. <\/span><\/p> Build or renovate to a high standard of ignition resistance<\/span><\/p><\/li> Maintain ornamental vegetation in a way that minimizes flammability within the home ignition zone.<\/span><\/p><\/li> Make a business or household plan for evacuating in the event of a wildfire<\/span><\/p><\/li><\/ul> <\/p> The Little-to-no Exposure zone is nonburnable land that is within 75 m of a structure but greater than 1500 m from a large (500 ha) contiguous block of burnable land cover. Flames\u2014even from home-to-home spread\u2014and embers are unlikely to reach the Little-to-no-exposure zone, but smoke and evacuations could still impact this area. <\/span><\/p> Extend your support to the exposed members of the community, especially those most sensitive (vulnerable).<\/span><\/p><\/li> Although the need for a wildfire evacuation is unlikely in this zone, it doesn\u2019t hurt to have a plan in place in case the need arises.<\/span><\/p><\/li><\/ul> <\/p> In addition to the above zones that contain structures, we simulated ember production and transport to identify a Sources of Ember Load to Buildings zone (SELB). Fuel treatment in this zone is a priority for reducing ember load to the nearby buildings. <\/span><\/p> Implement fuel treatments in this zone to reduce ember production<\/span><\/p><\/li><\/ul> <\/p> Finally, the Critical Fireshed is the unpopulated land within about 2.4 km of a group of structures. Fires that originate within or spread to the Critical Fireshed have an immediate threat of reaching the nearby structures; fuel treatments that slow fire spread in this zone can reduce risk to these structures.<\/span><\/p> Implement fuel treatments in these areas to reduce rate of spread and increase firefighter safety (e.g., remove snags)<\/span><\/p><\/li> Plan for initial attack and evacuations<\/span><\/p><\/li> Prioritize fire prevention activities<\/span><\/p><\/li><\/ul><\/div><\/div><\/div>",
"name": "TxWRAP/functional_wui_img",
"description": " This spatial dataset was produced with the Wildfire Exposure Simulation Tool (WildEST), a cloud-based geospatial fire behavior characteristic simulation system. WildEST performs multiple deterministic simulations under a range of weather types (wind speed, wind direction, fuel moisture content) and weights those results based on weather type probabilities (WTP).<\/span><\/p> The Functional WUI dataset was generated from a comprehensive building footprint dataset, fire intensity modeling, and simulation of ember production and transport. <\/span><\/p> The Direct Exposure zone is burnable land cover within 75 m of a structure. Reducing fire intensity and ember production in this zone would reduce the exposure of nearby buildings to heat and embers. Buildings in this zone also require hardening of the structure to resist ignition. Residents of this zone should:<\/span><\/p> Build or renovate to a very high standard of ignition resistance<\/span><\/p><\/li> Maintain ornamental and natural vegetation in a way that minimizes flammability within the home ignition zone.<\/span><\/p><\/li> Make a business or household plan for evacuating in the event of a wildfire<\/span><\/p><\/li><\/ul> <\/p> The Indirect Exposure zone is nonburnable land cover within 1500 m of burnable land cover that is within 75 m of a structure, meaning that embers and home-to-home spread could reach within this zone. Indirectly exposed structures would benefit from the hardening of the structure to resist ignition from embers and nearby structures, but defensible space is usually not required due to the heavily developed nature of the zone. <\/span><\/p> Build or renovate to a high standard of ignition resistance<\/span><\/p><\/li> Maintain ornamental vegetation in a way that minimizes flammability within the home ignition zone.<\/span><\/p><\/li> Make a business or household plan for evacuating in the event of a wildfire<\/span><\/p><\/li><\/ul> <\/p> The Little-to-no Exposure zone is nonburnable land that is within 75 m of a structure but greater than 1500 m from a large (500 ha) contiguous block of burnable land cover. Flames\u2014even from home-to-home spread\u2014and embers are unlikely to reach the Little-to-no-exposure zone, but smoke and evacuations could still impact this area. <\/span><\/p> Extend your support to the exposed members of the community, especially those most sensitive (vulnerable).<\/span><\/p><\/li> Although the need for a wildfire evacuation is unlikely in this zone, it doesn\u2019t hurt to have a plan in place in case the need arises.<\/span><\/p><\/li><\/ul> <\/p> In addition to the above zones that contain structures, we simulated ember production and transport to identify a Sources of Ember Load to Buildings zone (SELB). Fuel treatment in this zone is a priority for reducing ember load to the nearby buildings. <\/span><\/p> Implement fuel treatments in this zone to reduce ember production<\/span><\/p><\/li><\/ul> <\/p> Finally, the Critical Fireshed is the unpopulated land within about 2.4 km of a group of structures. Fires that originate within or spread to the Critical Fireshed have an immediate threat of reaching the nearby structures; fuel treatments that slow fire spread in this zone can reduce risk to these structures.<\/span><\/p> Implement fuel treatments in these areas to reduce rate of spread and increase firefighter safety (e.g., remove snags)<\/span><\/p><\/li> Plan for initial attack and evacuations<\/span><\/p><\/li> Prioritize fire prevention activities<\/span><\/p><\/li><\/ul><\/div><\/div><\/div>",
"extent": {
"xmin": -1.2003310552985873E7,
"ymin": 2879427.4371621246,
"xmax": -1.0271400552985873E7,
"ymax": 4490777.437162125,
"spatialReference": {
"wkid": 102100,
"latestWkid": 3857
}
},
"initialExtent": {
"xmin": -1.2003310552985873E7,
"ymin": 2879427.4371621246,
"xmax": -1.0271400552985873E7,
"ymax": 4490777.437162125,
"spatialReference": {
"wkid": 102100,
"latestWkid": 3857
}
},
"fullExtent": {
"xmin": -1.2003310552985873E7,
"ymin": 2879427.4371621246,
"xmax": -1.0271400552985873E7,
"ymax": 4490777.437162125,
"spatialReference": {
"wkid": 102100,
"latestWkid": 3857
}
},
"sortableFields": "",
"bandCount": 1,
"pixelType": "U4",
"minValues": [
1
],
"maxValues": [
8
],
"meanValues": [
4.3520458130934
],
"stdvValues": [
1.5905561589035
],
"hasMultidimensions": false,
"pixelSizeX": 10,
"pixelSizeY": 10,
"meanPixelSize": 10,
"datasetFormat": "TIFF",
"uncompressedSize": 13953565893,
"blockWidth": 128,
"blockHeight": 128,
"compressionType": "LZW",
"bandNames": [
"Band_1"
],
"allowCopy": true,
"allowAnalysis": true,
"itemAccess": false,
"inspectionCapabilities": "",
"noDataValue": 15,
"noDataValues": [
15
],
"minPixelSize": 0,
"maxPixelSize": 0,
"copyrightText": "Primary data contact: Texas A&M Forest Service, Forest Resource Protection Division, Applied Technology Department. Send an email to TxWRAP-Support@tfs.tamu.edu for inquires. Visit www.TexasWildfireRisk.com for additional information.This dataset was developed for the Texas Wildfire Risk Assessment by Pyrologix LLC (www.pyrologix.com), a subsidiary of Vibrant Planet (www.vibrantplanet.net).",
"serviceDataType": "esriImageServiceDataTypeThematic",
"serviceSourceType": "esriImageServiceSourceTypeDataset",
"objectIdField": "",
"fields": [],
"capabilities": "Mensuration,Image,Metadata",
"defaultMosaicMethod": "Center",
"allowedMosaicMethods": "",
"sortField": "",
"sortValue": null,
"sortAscending": true,
"mosaicOperator": "First",
"defaultCompressionQuality": 75,
"defaultResamplingMethod": "Bilinear",
"maxImageHeight": 4100,
"maxImageWidth": 15000,
"allowRasterFunction": true,
"rasterFunctionInfos": [
{
"name": "None",
"description": "",
"help": ""
}
],
"rasterTypeInfos": [
{
"name": "Raster Dataset",
"description": "Supports all ArcGIS Raster Datasets",
"help": ""
}
],
"mensurationCapabilities": "Basic",
"hasHistograms": false,
"hasColormap": false,
"hasRasterAttributeTable": true,
"minScale": 0,
"maxScale": 0,
"exportTilesAllowed": false,
"supportsStatistics": false,
"supportsAdvancedQueries": false,
"editFieldsInfo": null,
"ownershipBasedAccessControlForRasters": null,
"allowComputeTiePoints": false,
"useStandardizedQueries": true,
"advancedQueryCapabilities": {
"useStandardizedQueries": true,
"supportsStatistics": false,
"supportsOrderBy": false,
"supportsDistinct": false,
"supportsPagination": false
},
"spatialReference": {
"wkid": 102100,
"latestWkid": 3857
},
"resampling": false
}