{ "currentVersion": 11.2, "serviceDescription": "
This spatial dataset was produced with the Wildfire Exposure Simulation Tool (WildEST), a cloud-based geospatial fire behavior characteristic simulation system. WildEST performs multiple deterministic simulations under a range of weather types (wind speed, wind direction, fuel moisture content) and weights those results based on weather type probabilities (WTP).<\/SPAN><\/P> This dataset represents the smoothed number of housing units per pixel. It is created using the Integrated Building Density Dataset (created from 3D Builings and USA Structures) and the U.S. Census Bureau redistricting housing unit dataset and the U.S. Census Bureau group housing dataset. The population is allocated to the buildings at a block level and smoothed with a 200 m buffer. It removes buildings on water and ice, smaller than 40 sqm, or less than 0.1 HU/kmsq.<\/SPAN><\/P><\/DIV><\/DIV><\/DIV>",
"name": "TxWRAP/housing_unit_density_img",
"description": " This spatial dataset was produced with the Wildfire Exposure Simulation Tool (WildEST), a cloud-based geospatial fire behavior characteristic simulation system. WildEST performs multiple deterministic simulations under a range of weather types (wind speed, wind direction, fuel moisture content) and weights those results based on weather type probabilities (WTP).<\/SPAN><\/P> This dataset represents the smoothed number of housing units per pixel. It is created using the Integrated Building Density Dataset (created from 3D Builings and USA Structures) and the U.S. Census Bureau redistricting housing unit dataset and the U.S. Census Bureau group housing dataset. The population is allocated to the buildings at a block level and smoothed with a 200 m buffer. It removes buildings on water and ice, smaller than 40 sqm, or less than 0.1 HU/kmsq.<\/SPAN><\/P><\/DIV><\/DIV><\/DIV>",
"extent": {
"xmin": -1.2003310552985873E7,
"ymin": 2879427.4371621246,
"xmax": -1.0271400552985873E7,
"ymax": 4490777.437162125,
"spatialReference": {
"wkid": 102100,
"latestWkid": 3857
}
},
"initialExtent": {
"xmin": -1.2003310552985873E7,
"ymin": 2879427.4371621246,
"xmax": -1.0271400552985873E7,
"ymax": 4490777.437162125,
"spatialReference": {
"wkid": 102100,
"latestWkid": 3857
}
},
"fullExtent": {
"xmin": -1.2003310552985873E7,
"ymin": 2879427.4371621246,
"xmax": -1.0271400552985873E7,
"ymax": 4490777.437162125,
"spatialReference": {
"wkid": 102100,
"latestWkid": 3857
}
},
"sortableFields": "",
"bandCount": 1,
"pixelType": "U16",
"minValues": [
0
],
"maxValues": [
28542
],
"meanValues": [
16.661203158132
],
"stdvValues": [
128.41231228711
],
"hasMultidimensions": false,
"pixelSizeX": 10,
"pixelSizeY": 10,
"meanPixelSize": 10,
"datasetFormat": "TIFF",
"uncompressedSize": 55814263570,
"blockWidth": 128,
"blockHeight": 128,
"compressionType": "LZW",
"bandNames": [
"Band_1"
],
"allowCopy": true,
"allowAnalysis": true,
"itemAccess": false,
"inspectionCapabilities": "",
"noDataValue": 65535,
"noDataValues": [
65535
],
"minPixelSize": 0,
"maxPixelSize": 0,
"copyrightText": "Primary data contact: Texas A&M Forest Service, Forest Resource Protection Division, Applied Technology Department. Send an email to TxWRAP-Support@tfs.tamu.edu for inquires. Visit www.TexasWildfireRisk.com for additional information.\n\nThis dataset was developed for the Texas Wildfire Risk Assessment by Pyrologix LLC (www.pyrologix.com), a subsidiary of Vibrant Planet (www.vibrantplanet.net).",
"serviceDataType": "esriImageServiceDataTypeGeneric",
"serviceSourceType": "esriImageServiceSourceTypeDataset",
"objectIdField": "",
"fields": [],
"capabilities": "Image,Metadata,Mensuration",
"defaultMosaicMethod": "Center",
"allowedMosaicMethods": "",
"sortField": "",
"sortValue": null,
"sortAscending": true,
"mosaicOperator": "First",
"defaultCompressionQuality": 75,
"defaultResamplingMethod": "Bilinear",
"maxImageHeight": 4100,
"maxImageWidth": 15000,
"allowRasterFunction": true,
"rasterFunctionInfos": [
{
"name": "None",
"description": "",
"help": ""
}
],
"rasterTypeInfos": [
{
"name": "Raster Dataset",
"description": "Supports all ArcGIS Raster Datasets",
"help": ""
}
],
"mensurationCapabilities": "Basic",
"hasHistograms": true,
"hasColormap": false,
"hasRasterAttributeTable": false,
"minScale": 0,
"maxScale": 0,
"exportTilesAllowed": false,
"supportsStatistics": false,
"supportsAdvancedQueries": false,
"editFieldsInfo": null,
"ownershipBasedAccessControlForRasters": null,
"allowComputeTiePoints": false,
"useStandardizedQueries": true,
"advancedQueryCapabilities": {
"useStandardizedQueries": true,
"supportsStatistics": false,
"supportsOrderBy": false,
"supportsDistinct": false,
"supportsPagination": false
},
"spatialReference": {
"wkid": 102100,
"latestWkid": 3857
}
}