{ "currentVersion": 11.2, "serviceDescription": "
This spatial dataset was produced with the Wildfire Exposure Simulation Tool (WildEST), a cloud-based geospatial fire behavior characteristic simulation system. WildEST performs multiple deterministic simulations under a range of weather types (wind speed, wind direction, fuel moisture content) and weights those results based on weather type probabilities (WTP).<\/SPAN><\/P> HUImpact (HUImpact) represents the relative potential impact of fire to housing units at any pixel, if a fire were to occur. It is an index that incorporates the general consequences of fire on a home as a function of fire intensity and uses flame length probabilities from wildfire modeling to capture likely intensity of fire. HUImpact does not include the likelihood of fire occurring, and it does not reflect mitigations done to individual structures that would influence susceptibility. <\/SPAN><\/P> To create HUImpact, we first converted HUDen to housing unit count, then multiplied housing unit count per pixel by the cRPS raster. Next, we multiplied by the Exposure Type raster produced in Scott et al. (2024) to mimic the reduction of potential losses with distance from burnable land cover. Where buildings are directly exposed to wildfire, the value of Exposure Type is 1 and HUImpact values are unmodified. Where buildings are indirectly exposed to wildfire, the value of Building Exposure is between 0 and 1, so HUImpact is reduced with increasing distance from areas of direct exposure. We calculate HUImpact with the following equation: <\/SPAN><\/P> HUImpact = (HUDen * 0.0001) * cRPS * Exposure Type. <\/SPAN><\/P> Calculated values of HUImpact can be very small decimal numbers. Because HUImpact is a unitless index, we chose to convert those to integers while preserving the relative values and as much precision as possible. To produce the final integer version of the HUImpact raster, we multiplied the initial values by 1,000,000 and rounded to the nearest integer. Pixels where the HUDen raster is zero are NoData in the HUImpact raster.<\/SPAN><\/P><\/DIV><\/DIV><\/DIV>",
"name": "TxWRAP/housing_unit_impact_img",
"description": " This spatial dataset was produced with the Wildfire Exposure Simulation Tool (WildEST), a cloud-based geospatial fire behavior characteristic simulation system. WildEST performs multiple deterministic simulations under a range of weather types (wind speed, wind direction, fuel moisture content) and weights those results based on weather type probabilities (WTP).<\/SPAN><\/P> HUImpact (HUImpact) represents the relative potential impact of fire to housing units at any pixel, if a fire were to occur. It is an index that incorporates the general consequences of fire on a home as a function of fire intensity and uses flame length probabilities from wildfire modeling to capture likely intensity of fire. HUImpact does not include the likelihood of fire occurring, and it does not reflect mitigations done to individual structures that would influence susceptibility. <\/SPAN><\/P> To create HUImpact, we first converted HUDen to housing unit count, then multiplied housing unit count per pixel by the cRPS raster. Next, we multiplied by the Exposure Type raster produced in Scott et al. (2024) to mimic the reduction of potential losses with distance from burnable land cover. Where buildings are directly exposed to wildfire, the value of Exposure Type is 1 and HUImpact values are unmodified. Where buildings are indirectly exposed to wildfire, the value of Building Exposure is between 0 and 1, so HUImpact is reduced with increasing distance from areas of direct exposure. We calculate HUImpact with the following equation: <\/SPAN><\/P> HUImpact = (HUDen * 0.0001) * cRPS * Exposure Type. <\/SPAN><\/P> Calculated values of HUImpact can be very small decimal numbers. Because HUImpact is a unitless index, we chose to convert those to integers while preserving the relative values and as much precision as possible. To produce the final integer version of the HUImpact raster, we multiplied the initial values by 1,000,000 and rounded to the nearest integer. Pixels where the HUDen raster is zero are NoData in the HUImpact raster.<\/SPAN><\/P><\/DIV><\/DIV><\/DIV>",
"extent": {
"xmin": -1.2003310552985873E7,
"ymin": 2879427.4371621246,
"xmax": -1.0271400552985873E7,
"ymax": 4490777.437162125,
"spatialReference": {
"wkid": 102100,
"latestWkid": 3857
}
},
"initialExtent": {
"xmin": -1.2003310552985873E7,
"ymin": 2879427.4371621246,
"xmax": -1.0271400552985873E7,
"ymax": 4490777.437162125,
"spatialReference": {
"wkid": 102100,
"latestWkid": 3857
}
},
"fullExtent": {
"xmin": -1.2003310552985873E7,
"ymin": 2879427.4371621246,
"xmax": -1.0271400552985873E7,
"ymax": 4490777.437162125,
"spatialReference": {
"wkid": 102100,
"latestWkid": 3857
}
},
"sortableFields": "",
"bandCount": 1,
"pixelType": "F32",
"minValues": [
0
],
"maxValues": [
62690404
],
"meanValues": [
13924.896415133
],
"stdvValues": [
106716.73802493
],
"hasMultidimensions": false,
"pixelSizeX": 10,
"pixelSizeY": 10,
"meanPixelSize": 10,
"datasetFormat": "TIFF",
"uncompressedSize": 111628527140,
"blockWidth": 128,
"blockHeight": 128,
"compressionType": "None",
"bandNames": [
"Band_1"
],
"allowCopy": true,
"allowAnalysis": true,
"itemAccess": false,
"inspectionCapabilities": "",
"noDataValue": -3.4028234663852886E38,
"noDataValues": [
-3.4028234663852886E38
],
"minPixelSize": 0,
"maxPixelSize": 0,
"copyrightText": "Primary data contact: Texas A&M Forest Service, Forest Resource Protection Division, Applied Technology Department. Send an email to TxWRAP-Support@tfs.tamu.edu for inquires. Visit www.TexasWildfireRisk.com for additional information.\n\nThis dataset was developed for the Texas Wildfire Risk Assessment by Pyrologix LLC (www.pyrologix.com), a subsidiary of Vibrant Planet (www.vibrantplanet.net).",
"serviceDataType": "esriImageServiceDataTypeGeneric",
"serviceSourceType": "esriImageServiceSourceTypeDataset",
"objectIdField": "",
"fields": [],
"capabilities": "Image,Metadata,Mensuration",
"defaultMosaicMethod": "Center",
"allowedMosaicMethods": "",
"sortField": "",
"sortValue": null,
"sortAscending": true,
"mosaicOperator": "First",
"defaultCompressionQuality": 75,
"defaultResamplingMethod": "Bilinear",
"maxImageHeight": 4100,
"maxImageWidth": 15000,
"allowRasterFunction": true,
"rasterFunctionInfos": [
{
"name": "None",
"description": "",
"help": ""
}
],
"rasterTypeInfos": [
{
"name": "Raster Dataset",
"description": "Supports all ArcGIS Raster Datasets",
"help": ""
}
],
"mensurationCapabilities": "Basic",
"hasHistograms": true,
"hasColormap": false,
"hasRasterAttributeTable": false,
"minScale": 0,
"maxScale": 0,
"exportTilesAllowed": false,
"supportsStatistics": false,
"supportsAdvancedQueries": false,
"editFieldsInfo": null,
"ownershipBasedAccessControlForRasters": null,
"allowComputeTiePoints": false,
"useStandardizedQueries": true,
"advancedQueryCapabilities": {
"useStandardizedQueries": true,
"supportsStatistics": false,
"supportsOrderBy": false,
"supportsDistinct": false,
"supportsPagination": false
},
"spatialReference": {
"wkid": 102100,
"latestWkid": 3857
}
}