{ "currentVersion": 11.2, "serviceDescription": "
This spatial dataset was produced with the Wildfire Exposure Simulation Tool (WildEST), a cloud-based geospatial fire behavior characteristic simulation system. WildEST performs multiple deterministic simulations under a range of weather types (wind speed, wind direction, fuel moisture content) and weights those results based on weather type probabilities (WTP).<\/SPAN><\/P> This dataset is a raster representing Suppression Difficulty Index (SDI) across the project area. Wildfire Suppression Difficulty Index is a quantitative rating of relative difficulty in performing fire control work. SDI factors in topography, fuels, expected fire behavior under severe fire weather conditions, firefighter line production rates in various fuel types, and accessibility (distance from roads/trails) to assess relative suppression difficulty.<\/SPAN><\/P> Additional information on the SDI can be found in the following references:<\/SPAN><\/P> Rodriguez y Silva, F.; O'Connor, C.D.; Thompson, M.P.; Molina, J.R.; Calkin, D.E. 2020. Modeling Suppression Difficulty: Current and Future Applications. International Journal of Wildland Fire 29(8), 739-751; doi: 10.1071/WF19042<\/SPAN><\/P> O'Connor, C.D., Thompson, M.P., Rodriguez y Silva, F. 2016. Getting ahead of the wildfire problem: quantifying and mapping management challenges and opportunities. Geosciences, 6(3), 35; doi: 10.3390/geosciences6030035<\/SPAN><\/P> Rodríguez y Silva, F, Martínez, JRM, González-Cabán, A. 2014. A methodology for determining operational priorities for prevention and suppression of wildland fires. International Journal of Wildland Fire 24(3), 544-554; doi: 10.1071/WF13063<\/SPAN><\/P><\/DIV><\/DIV><\/DIV>",
"name": "TxWRAP/suppression_difficulty_index_img",
"description": " This spatial dataset was produced with the Wildfire Exposure Simulation Tool (WildEST), a cloud-based geospatial fire behavior characteristic simulation system. WildEST performs multiple deterministic simulations under a range of weather types (wind speed, wind direction, fuel moisture content) and weights those results based on weather type probabilities (WTP).<\/SPAN><\/P> This dataset is a raster representing Suppression Difficulty Index (SDI) across the project area. Wildfire Suppression Difficulty Index is a quantitative rating of relative difficulty in performing fire control work. SDI factors in topography, fuels, expected fire behavior under severe fire weather conditions, firefighter line production rates in various fuel types, and accessibility (distance from roads/trails) to assess relative suppression difficulty.<\/SPAN><\/P> Additional information on the SDI can be found in the following references:<\/SPAN><\/P> Rodriguez y Silva, F.; O'Connor, C.D.; Thompson, M.P.; Molina, J.R.; Calkin, D.E. 2020. Modeling Suppression Difficulty: Current and Future Applications. International Journal of Wildland Fire 29(8), 739-751; doi: 10.1071/WF19042<\/SPAN><\/P> O'Connor, C.D., Thompson, M.P., Rodriguez y Silva, F. 2016. Getting ahead of the wildfire problem: quantifying and mapping management challenges and opportunities. Geosciences, 6(3), 35; doi: 10.3390/geosciences6030035<\/SPAN><\/P> Rodríguez y Silva, F, Martínez, JRM, González-Cabán, A. 2014. A methodology for determining operational priorities for prevention and suppression of wildland fires. International Journal of Wildland Fire 24(3), 544-554; doi: 10.1071/WF13063<\/SPAN><\/P><\/DIV><\/DIV><\/DIV>",
"extent": {
"xmin": -1.2003310552985873E7,
"ymin": 2879427.4371621246,
"xmax": -1.0271400552985873E7,
"ymax": 4490777.437162125,
"spatialReference": {
"wkid": 102100,
"latestWkid": 3857
}
},
"initialExtent": {
"xmin": -1.2003310552985873E7,
"ymin": 2879427.4371621246,
"xmax": -1.0271400552985873E7,
"ymax": 4490777.437162125,
"spatialReference": {
"wkid": 102100,
"latestWkid": 3857
}
},
"fullExtent": {
"xmin": -1.2003310552985873E7,
"ymin": 2879427.4371621246,
"xmax": -1.0271400552985873E7,
"ymax": 4490777.437162125,
"spatialReference": {
"wkid": 102100,
"latestWkid": 3857
}
},
"sortableFields": "",
"bandCount": 1,
"pixelType": "U16",
"minValues": [
0
],
"maxValues": [
258
],
"meanValues": [
11.5321485587
],
"stdvValues": [
14.423613555378
],
"hasMultidimensions": false,
"pixelSizeX": 10,
"pixelSizeY": 10,
"meanPixelSize": 10,
"datasetFormat": "TIFF",
"uncompressedSize": 55814263570,
"blockWidth": 128,
"blockHeight": 128,
"compressionType": "LZW",
"bandNames": [
"Band_1"
],
"allowCopy": true,
"allowAnalysis": true,
"itemAccess": false,
"inspectionCapabilities": "",
"noDataValue": 65535,
"noDataValues": [
65535
],
"minPixelSize": 0,
"maxPixelSize": 0,
"copyrightText": "Primary data contact: Texas A&M Forest Service, Forest Resource Protection Division, Applied Technology Department. Send an email to TxWRAP-Support@tfs.tamu.edu for inquires. Visit www.TexasWildfireRisk.com for additional information.\n\nThis dataset was developed for the Texas Wildfire Risk Assessment by Pyrologix LLC (www.pyrologix.com), a subsidiary of Vibrant Planet (www.vibrantplanet.net).",
"serviceDataType": "esriImageServiceDataTypeThematic",
"serviceSourceType": "esriImageServiceSourceTypeDataset",
"objectIdField": "",
"fields": [],
"capabilities": "Image,Metadata,Mensuration",
"defaultMosaicMethod": "Center",
"allowedMosaicMethods": "",
"sortField": "",
"sortValue": null,
"sortAscending": true,
"mosaicOperator": "First",
"defaultCompressionQuality": 75,
"defaultResamplingMethod": "Bilinear",
"maxImageHeight": 4100,
"maxImageWidth": 15000,
"allowRasterFunction": true,
"rasterFunctionInfos": [
{
"name": "None",
"description": "",
"help": ""
}
],
"rasterTypeInfos": [
{
"name": "Raster Dataset",
"description": "Supports all ArcGIS Raster Datasets",
"help": ""
}
],
"mensurationCapabilities": "Basic",
"hasHistograms": true,
"hasColormap": false,
"hasRasterAttributeTable": true,
"minScale": 0,
"maxScale": 0,
"exportTilesAllowed": false,
"supportsStatistics": false,
"supportsAdvancedQueries": false,
"editFieldsInfo": null,
"ownershipBasedAccessControlForRasters": null,
"allowComputeTiePoints": false,
"useStandardizedQueries": true,
"advancedQueryCapabilities": {
"useStandardizedQueries": true,
"supportsStatistics": false,
"supportsOrderBy": false,
"supportsDistinct": false,
"supportsPagination": false
},
"spatialReference": {
"wkid": 102100,
"latestWkid": 3857
}
}