<?xml version="1.0" encoding="UTF-8" standalone="no"?>
<metadata xml:lang="en">
<Esri>
<CreaDate>20240806</CreaDate>
<CreaTime>20235000</CreaTime>
<ArcGISFormat>1.0</ArcGISFormat>
<ArcGISstyle>FGDC CSDGM Metadata</ArcGISstyle>
<SyncOnce>FALSE</SyncOnce>
<DataProperties>
<itemProps>
<itemName Sync="TRUE">WHP_proj.tif</itemName>
<imsContentType Sync="TRUE">002</imsContentType>
<nativeExtBox>
<westBL Sync="TRUE">-12003310.552986</westBL>
<eastBL Sync="TRUE">-10271400.552986</eastBL>
<southBL Sync="TRUE">2879427.437162</southBL>
<northBL Sync="TRUE">4490777.437162</northBL>
<exTypeCode Sync="TRUE">1</exTypeCode>
</nativeExtBox>
<itemLocation>
<linkage Sync="TRUE">file://Z:\TWRA\Integrated_measures\script_output\WHP_proj.tif</linkage>
<protocol Sync="TRUE">Local Area Network</protocol>
</itemLocation>
</itemProps>
<coordRef>
<type Sync="TRUE">Projected</type>
<geogcsn Sync="TRUE">GCS_WGS_1984</geogcsn>
<csUnits Sync="TRUE">Linear Unit: Meter (1.000000)</csUnits>
<projcsn Sync="TRUE">WGS_1984_Web_Mercator_Auxiliary_Sphere</projcsn>
<peXml Sync="TRUE">&lt;ProjectedCoordinateSystem xsi:type='typens:ProjectedCoordinateSystem' xmlns:xsi='http://www.w3.org/2001/XMLSchema-instance' xmlns:xs='http://www.w3.org/2001/XMLSchema' xmlns:typens='http://www.esri.com/schemas/ArcGIS/3.2.0'&gt;&lt;WKT&gt;PROJCS[&amp;quot;WGS_1984_Web_Mercator_Auxiliary_Sphere&amp;quot;,GEOGCS[&amp;quot;GCS_WGS_1984&amp;quot;,DATUM[&amp;quot;D_WGS_1984&amp;quot;,SPHEROID[&amp;quot;WGS_1984&amp;quot;,6378137.0,298.257223563]],PRIMEM[&amp;quot;Greenwich&amp;quot;,0.0],UNIT[&amp;quot;Degree&amp;quot;,0.0174532925199433]],PROJECTION[&amp;quot;Mercator_Auxiliary_Sphere&amp;quot;],PARAMETER[&amp;quot;False_Easting&amp;quot;,0.0],PARAMETER[&amp;quot;False_Northing&amp;quot;,0.0],PARAMETER[&amp;quot;Central_Meridian&amp;quot;,0.0],PARAMETER[&amp;quot;Standard_Parallel_1&amp;quot;,0.0],PARAMETER[&amp;quot;Auxiliary_Sphere_Type&amp;quot;,0.0],UNIT[&amp;quot;Meter&amp;quot;,1.0],AUTHORITY[&amp;quot;EPSG&amp;quot;,3857]]&lt;/WKT&gt;&lt;XOrigin&gt;-20037700&lt;/XOrigin&gt;&lt;YOrigin&gt;-30241100&lt;/YOrigin&gt;&lt;XYScale&gt;148923141.92838538&lt;/XYScale&gt;&lt;ZOrigin&gt;-100000&lt;/ZOrigin&gt;&lt;ZScale&gt;10000&lt;/ZScale&gt;&lt;MOrigin&gt;-100000&lt;/MOrigin&gt;&lt;MScale&gt;10000&lt;/MScale&gt;&lt;XYTolerance&gt;0.001&lt;/XYTolerance&gt;&lt;ZTolerance&gt;0.001&lt;/ZTolerance&gt;&lt;MTolerance&gt;0.001&lt;/MTolerance&gt;&lt;HighPrecision&gt;true&lt;/HighPrecision&gt;&lt;WKID&gt;102100&lt;/WKID&gt;&lt;LatestWKID&gt;3857&lt;/LatestWKID&gt;&lt;/ProjectedCoordinateSystem&gt;</peXml>
</coordRef>
<RasterProperties>
<General>
<PixelDepth Sync="TRUE">32</PixelDepth>
<HasColormap Sync="TRUE">FALSE</HasColormap>
<CompressionType Sync="TRUE">LZW</CompressionType>
<NumBands Sync="TRUE">1</NumBands>
<Format Sync="TRUE">TIFF</Format>
<HasPyramids Sync="TRUE">TRUE</HasPyramids>
<SourceType Sync="TRUE">continuous</SourceType>
<PixelType Sync="TRUE">floating point</PixelType>
<NoDataValue Sync="TRUE">-3.4028231e+38</NoDataValue>
</General>
</RasterProperties>
<lineage>
<Process Date="20240920" Time="064504" ToolSource="c:\program files\arcgis\pro\Resources\ArcToolbox\toolboxes\Data Management Tools.tbx\ProjectRaster">ProjectRaster Z:\TWRA\Integrated_measures\WHP.tif Z:\TWRA\Integrated_measures\script_output\WHP_proj.tif PROJCS["WGS_1984_Web_Mercator_Auxiliary_Sphere",GEOGCS["GCS_WGS_1984",DATUM["D_WGS_1984",SPHEROID["WGS_1984",6378137.0,298.257223563]],PRIMEM["Greenwich",0.0],UNIT["Degree",0.0174532925199433]],PROJECTION["Mercator_Auxiliary_Sphere"],PARAMETER["False_Easting",0.0],PARAMETER["False_Northing",0.0],PARAMETER["Central_Meridian",0.0],PARAMETER["Standard_Parallel_1",0.0],PARAMETER["Auxiliary_Sphere_Type",0.0],UNIT["Meter",1.0]] "Nearest neighbor" "10 10" WGS_1984_(ITRF00)_To_NAD_1983 # PROJCS["NAD_1983_Texas_Centric_Mapping_System_Albers",GEOGCS["GCS_North_American_1983",DATUM["D_North_American_1983",SPHEROID["GRS_1980",6378137.0,298.257222101]],PRIMEM["Greenwich",0.0],UNIT["Degree",0.0174532925199433]],PROJECTION["Albers"],PARAMETER["False_Easting",1500000.0],PARAMETER["False_Northing",6000000.0],PARAMETER["Central_Meridian",-100.0],PARAMETER["Standard_Parallel_1",27.5],PARAMETER["Standard_Parallel_2",35.0],PARAMETER["Latitude_Of_Origin",18.0],UNIT["Meter",1.0]] NO_VERTICAL</Process>
</lineage>
</DataProperties>
<SyncDate>20240920</SyncDate>
<SyncTime>06450400</SyncTime>
<ModDate>20240920</ModDate>
<ModTime>06450400</ModTime>
<scaleRange>
<minScale>150000000</minScale>
<maxScale>5000</maxScale>
</scaleRange>
<ArcGISProfile>FGDC</ArcGISProfile>
</Esri>
<dataIdInfo>
<envirDesc Sync="TRUE">Microsoft Windows Server 2016 Technical Preview Version 10.0 (Build 20348) ; Esri ArcGIS 13.2.2.49743</envirDesc>
<dataLang>
<languageCode Sync="TRUE" value="eng"/>
<countryCode Sync="TRUE" value="USA"/>
</dataLang>
<idCitation>
<resTitle Sync="FALSE">wildfire_hazard_potential_img</resTitle>
<presForm>
<PresFormCd Sync="TRUE" value="005"/>
</presForm>
</idCitation>
<spatRpType>
<SpatRepTypCd Sync="TRUE" value="002"/>
</spatRpType>
<dataExt>
<geoEle>
<GeoBndBox esriExtentType="search">
<exTypeCode Sync="TRUE">1</exTypeCode>
<westBL Sync="TRUE">-107.827573</westBL>
<eastBL Sync="TRUE">-92.269561</eastBL>
<northBL Sync="TRUE">37.369794</northBL>
<southBL Sync="TRUE">25.029980</southBL>
</GeoBndBox>
</geoEle>
</dataExt>
<idPurp>The purpose of the Texas Wildfire Hazard Assessment (TxWRAP) is to provide foundational information about wildfire hazard across all land ownership in the state of Texas. Such information supports fuel management planning decisions, as well as revisions to land and resource management plans. A wildfire hazard assessment is a quantitative analysis of potential impacts by wildfire.</idPurp>
<idAbs>&lt;DIV STYLE="text-align:Left;"&gt;&lt;DIV&gt;&lt;DIV&gt;&lt;P&gt;&lt;SPAN&gt;This spatial dataset was produced with the Wildfire Exposure Simulation Tool (WildEST), a cloud-based geospatial fire behavior characteristic simulation system. WildEST performs multiple deterministic simulations under a range of weather types (wind speed, wind direction, fuel moisture content) and weights those results based on weather type probabilities (WTP).&lt;/SPAN&gt;&lt;/P&gt;&lt;P&gt;&lt;SPAN STYLE="font-weight:bold;"&gt;This wildfire hazard potential (WHP) dataset represents an index that quantifies the relative potential for wildfire that may be difficult to control. WHP was calculated by following the methods established by Dillon et al. (2015) and Dillon (2018) while vegetation inputs, fuel model outputs, burn probability results, and fire-effects flame-length probabilities from WildEST.&lt;/SPAN&gt;&lt;/P&gt;&lt;P&gt;&lt;SPAN STYLE="font-weight:bold;"&gt;Additional information on the WHP can be found in the following references:&lt;/SPAN&gt;&lt;/P&gt;&lt;P&gt;&lt;SPAN STYLE="font-weight:bold;"&gt;Dillon, Gregory K.; Menakis, James; Fay, Frank. 2015. Wildland fire potential: A tool for assessing wildfire risk and fuels management needs. In: Keane, Robert E.; Jolly, Matt; Parsons, Russell; Riley, Karin. Proceedings of the large wildland fires conference; May 19-23, 2014; Missoula, MT. Proc. RMRS-P-73. Fort Collins, CO: U.S. Department of Agriculture, Forest Service, Rocky Mountain Research Station. p. 60-76. https://www.fs.usda.gov/treesearch/pubs/49429&lt;/SPAN&gt;&lt;/P&gt;&lt;P&gt;&lt;SPAN STYLE="font-weight:bold;"&gt;Dillon, Gregory K. 2018. Wildfire Hazard Potential (WHP) for the conterminous United States (270-m GRID), version 2018 continuous. 2nd Edition. Fort Collins, CO: Forest Service Research Data Archive. https://doi.org/10.2737/RDS-2015-0047-2&lt;/SPAN&gt;&lt;/P&gt;&lt;/DIV&gt;&lt;/DIV&gt;&lt;/DIV&gt;</idAbs>
<idCredit>Primary data contact: Texas A&amp;M Forest Service, Forest Resource Protection Division, Applied Technology Department. Send an email to TxWRAP-Support@tfs.tamu.edu for inquires. Visit www.TexasWildfireRisk.com for additional information.
This dataset was developed for the Texas Wildfire Risk Assessment by Pyrologix LLC (www.pyrologix.com), a subsidiary of Vibrant Planet (www.vibrantplanet.net).</idCredit>
<searchKeys>
<keyword>WildEST</keyword>
<keyword>Wildfire Exposure Simulation Tool</keyword>
<keyword>TWRA</keyword>
<keyword>Texas Wildfire Risk Assessment</keyword>
<keyword>TxWRAP</keyword>
<keyword>Texas Wildfire Risk Assessment Portal</keyword>
<keyword>TFS</keyword>
<keyword>TAMFS</keyword>
<keyword>Texas A&amp;M Forest Service</keyword>
</searchKeys>
<resConst>
<Consts>
<useLimit>&lt;DIV STYLE="text-align:Left;"&gt;&lt;DIV&gt;&lt;DIV&gt;&lt;P&gt;&lt;SPAN&gt;The user must be aware of data conditions and must ultimately bear responsibility for the appropriate use of the information with respect to possible errors, possible omissions, map scale, data collection methodology, data currency, and other conditions specific to certain data.&lt;/SPAN&gt;&lt;/P&gt;&lt;/DIV&gt;&lt;/DIV&gt;&lt;/DIV&gt;</useLimit>
</Consts>
</resConst>
</dataIdInfo>
<mdLang>
<languageCode Sync="TRUE" value="eng"/>
<countryCode Sync="TRUE" value="USA"/>
</mdLang>
<mdChar>
<CharSetCd Sync="TRUE" value="004"/>
</mdChar>
<distInfo>
<distFormat>
<formatName Sync="TRUE">Raster Dataset</formatName>
</distFormat>
</distInfo>
<mdHrLv>
<ScopeCd Sync="TRUE" value="005"/>
</mdHrLv>
<mdHrLvName Sync="TRUE">dataset</mdHrLvName>
<refSysInfo>
<RefSystem>
<refSysID>
<identCode Sync="TRUE" code="3857"/>
<idCodeSpace Sync="TRUE">EPSG</idCodeSpace>
<idVersion Sync="TRUE">6.18.3(9.3.1.2)</idVersion>
</refSysID>
</RefSystem>
</refSysInfo>
<spatRepInfo>
<Georect>
<cellGeo>
<CellGeoCd Sync="TRUE" value="002"/>
</cellGeo>
<numDims Sync="TRUE">2</numDims>
<tranParaAv Sync="TRUE">1</tranParaAv>
<chkPtAv Sync="TRUE">0</chkPtAv>
<cornerPts>
<pos Sync="TRUE">-12003310.552986 2879427.437162</pos>
</cornerPts>
<cornerPts>
<pos Sync="TRUE">-12003310.552986 4490777.437162</pos>
</cornerPts>
<cornerPts>
<pos Sync="TRUE">-10271400.552986 4490777.437162</pos>
</cornerPts>
<cornerPts>
<pos Sync="TRUE">-10271400.552986 2879427.437162</pos>
</cornerPts>
<centerPt>
<pos Sync="TRUE">-11137355.552986 3685102.437162</pos>
</centerPt>
<axisDimension type="002">
<dimSize Sync="TRUE">173191</dimSize>
<dimResol>
<value Sync="TRUE" uom="m">10.000000</value>
</dimResol>
</axisDimension>
<axisDimension type="001">
<dimSize Sync="TRUE">161135</dimSize>
<dimResol>
<value Sync="TRUE" uom="m">10.000000</value>
</dimResol>
</axisDimension>
<ptInPixel>
<PixOrientCd Sync="TRUE" value="001"/>
</ptInPixel>
</Georect>
</spatRepInfo>
<contInfo>
<ImgDesc>
<contentTyp>
<ContentTypCd Sync="TRUE" value="001"/>
</contentTyp>
<covDim>
<Band>
<dimDescrp Sync="TRUE">Band_1</dimDescrp>
<maxVal Sync="TRUE">32164.000000</maxVal>
<minVal Sync="TRUE">0.000000</minVal>
<bitsPerVal Sync="TRUE">32</bitsPerVal>
<valUnit>
<UOM type="length"/>
</valUnit>
</Band>
</covDim>
</ImgDesc>
</contInfo>
<mdDateSt Sync="TRUE">20240920</mdDateSt>
</metadata>
