View In:
ArcGIS JavaScript
ArcGIS Online Map Viewer
ArcGIS Earth
Service Description: This dataset is a 30-m cell size representation of people and property to depict wildfire risk to communities. The methods for creating this dataset are the same as the Wildfire Risk to Communities project (WRC).
Jaffe, Melissa R.; Scott, Joe H.; Callahan, Michael N.; Dillon, Gregory K.; Karau, Eva C.; Lazarz, Mitchell T. (In Review). Wildfire Risk to Communities: Spatial datasets of wildfire risk for populated areas in the United States. Fort Collins, CO: Forest Service Research Data Archive. https://doi.org/10.2737/RDS-2020-0060
This dataset represents the relative potential risk to housing units. Housing Unit Risk (HURisk) incorporates the general consequences of fire on a home as a function of fire intensity, using flame length probabilities from wildfire modeling to capture likely intensity of fire, as well as annual Burn Probability as a measure of wildfire likelihood. HURisk does not reflect mitigations done to individual structures that would influence susceptibility. It is similar to Risk to Potential Structures (cRPS) in Scott et al. (in prep2024), but also incorporates housing unit density and distance from burnable land cover.
Name: SouthWRAP/housing_unit_risk_img
Description: This dataset is a 30-m cell size representation of people and property to depict wildfire risk to communities. The methods for creating this dataset are the same as the Wildfire Risk to Communities project (WRC).
Jaffe, Melissa R.; Scott, Joe H.; Callahan, Michael N.; Dillon, Gregory K.; Karau, Eva C.; Lazarz, Mitchell T. (In Review). Wildfire Risk to Communities: Spatial datasets of wildfire risk for populated areas in the United States. Fort Collins, CO: Forest Service Research Data Archive. https://doi.org/10.2737/RDS-2020-0060
This dataset represents the relative potential risk to housing units. Housing Unit Risk (HURisk) incorporates the general consequences of fire on a home as a function of fire intensity, using flame length probabilities from wildfire modeling to capture likely intensity of fire, as well as annual Burn Probability as a measure of wildfire likelihood. HURisk does not reflect mitigations done to individual structures that would influence susceptibility. It is similar to Risk to Potential Structures (cRPS) in Scott et al. (in prep2024), but also incorporates housing unit density and distance from burnable land cover.
Single Fused Map Cache: false
Extent:
XMin: -1.1545425437957773E7
YMin: 2801648.6098902365
XMax: -8349495.437957773
YMax: 4840238.6098902365
Spatial Reference: 102100
(3857)
LatestVCSWkid(0)
Initial Extent:
XMin: -1.1545425437957773E7
YMin: 2801648.6098902365
XMax: -8349495.437957773
YMax: 4840238.6098902365
Spatial Reference: 102100
(3857)
LatestVCSWkid(0)
Full Extent:
XMin: -1.1545425437957773E7
YMin: 2801648.6098902365
XMax: -8349495.437957773
YMax: 4840238.6098902365
Spatial Reference: 102100
(3857)
LatestVCSWkid(0)
Pixel Size X: 30.0
Pixel Size Y: 30.0
Band Count: 1
Pixel Type: S32
RasterFunction Infos: {"rasterFunctionInfos": [{
"name": "None",
"description": "",
"help": ""
}]}
Mensuration Capabilities: Basic
Inspection Capabilities:
Has Histograms: true
Has Colormap: false
Has Multi Dimensions : false
Rendering Rule:
Min Scale: 0
Max Scale: 0
Copyright Text: Primary data contact: The Southern Wildfire Risk Assessment (www.SouthernWildfireRisk.com) is sponsored by the Southern Group of State Foresters (https://southernforests.org) and managed by Texas A&M Forest Service. Send an email to SouthWRAP-Support@tfs.tamu.edu for inquiries.
This dataset was developed for the Southern Wildfire Risk Assessment by Pyrologix LLC (www.pyrologix.com), a subsidiary of Vibrant Planet (www.vibrantplanet.net).
Service Data Type: esriImageServiceDataTypeGeneric
Min Values: 0
Max Values: 9726774
Mean Values: 322.67945739572
Standard Deviation Values: 3576.0986503575
Object ID Field:
Fields:
None
Default Mosaic Method: Center
Allowed Mosaic Methods:
SortField:
SortValue: null
Mosaic Operator: First
Default Compression Quality: 75
Default Resampling Method: Bilinear
Max Record Count: null
Max Image Height: 4100
Max Image Width: 15000
Max Download Image Count: null
Max Mosaic Image Count: null
Allow Raster Function: true
Allow Copy: true
Allow Analysis: true
Allow Compute TiePoints: false
Supports Statistics: false
Supports Advanced Queries: false
Use StandardizedQueries: true
Raster Type Infos:
Name: Raster Dataset
Description: Supports all ArcGIS Raster Datasets
Help:
Has Raster Attribute Table: false
Edit Fields Info: null
Ownership Based AccessControl For Rasters: null
Child Resources:
Info
Histograms
Statistics
Key Properties
Legend
Raster Function Infos
Supported Operations:
Export Image
Identify
Measure
Compute Histograms
Compute Statistics Histograms
Get Samples
Compute Class Statistics
Query Boundary
Compute Pixel Location
Compute Angles
Validate
Project