View In:
ArcGIS JavaScript
ArcGIS Online Map Viewer
ArcGIS Earth
Service Description: This spatial dataset was produced with the Wildfire Exposure Simulation Tool (WildEST), a cloud-based geospatial fire behavior characteristic simulation system. WildEST performs multiple deterministic simulations under a range of weather types (wind speed, wind direction, fuel moisture content) and weights those results based on weather type probabilities (WTP).
This ember production dataset represents the conditional sources of ember load to buildings (cSELB) – a relative index of the potential for a pixel to produce embers that land at a location where buildings exist.
Name: TxWRAP/conditional_sources_of_ember_load_to_buildings_img
Description: This spatial dataset was produced with the Wildfire Exposure Simulation Tool (WildEST), a cloud-based geospatial fire behavior characteristic simulation system. WildEST performs multiple deterministic simulations under a range of weather types (wind speed, wind direction, fuel moisture content) and weights those results based on weather type probabilities (WTP).
This ember production dataset represents the conditional sources of ember load to buildings (cSELB) – a relative index of the potential for a pixel to produce embers that land at a location where buildings exist.
Single Fused Map Cache: false
Extent:
XMin: -1.2003310552985873E7
YMin: 2879427.4371621246
XMax: -1.0271400552985873E7
YMax: 4490777.437162125
Spatial Reference: 102100
(3857)
LatestVCSWkid(0)
Initial Extent:
XMin: -1.2003310552985873E7
YMin: 2879427.4371621246
XMax: -1.0271400552985873E7
YMax: 4490777.437162125
Spatial Reference: 102100
(3857)
LatestVCSWkid(0)
Full Extent:
XMin: -1.2003310552985873E7
YMin: 2879427.4371621246
XMax: -1.0271400552985873E7
YMax: 4490777.437162125
Spatial Reference: 102100
(3857)
LatestVCSWkid(0)
Pixel Size X: 10.0
Pixel Size Y: 10.0
Band Count: 1
Pixel Type: F32
RasterFunction Infos: {"rasterFunctionInfos": [{
"name": "None",
"description": "",
"help": ""
}]}
Mensuration Capabilities: Basic
Inspection Capabilities:
Has Histograms: true
Has Colormap: false
Has Multi Dimensions : false
Rendering Rule:
Min Scale: 0
Max Scale: 0
Copyright Text: Primary data contact: Texas A&M Forest Service, Forest Resource Protection Division, Applied Technology Department. Send an email to TxWRAP-Support@tfs.tamu.edu for inquires. Visit www.TexasWildfireRisk.com for additional information.
This dataset was developed for the Texas Wildfire Risk Assessment by Pyrologix LLC (www.pyrologix.com), a subsidiary of Vibrant Planet (www.vibrantplanet.net).
Service Data Type: esriImageServiceDataTypeGeneric
Min Values: 0
Max Values: 1231.3841552734
Mean Values: 4.0900061680234
Standard Deviation Values: 20.519309851438
Object ID Field:
Fields:
None
Default Mosaic Method: Center
Allowed Mosaic Methods:
SortField:
SortValue: null
Mosaic Operator: First
Default Compression Quality: 75
Default Resampling Method: Bilinear
Max Record Count: null
Max Image Height: 4100
Max Image Width: 15000
Max Download Image Count: null
Max Mosaic Image Count: null
Allow Raster Function: true
Allow Copy: true
Allow Analysis: true
Allow Compute TiePoints: false
Supports Statistics: false
Supports Advanced Queries: false
Use StandardizedQueries: true
Raster Type Infos:
Name: Raster Dataset
Description: Supports all ArcGIS Raster Datasets
Help:
Has Raster Attribute Table: false
Edit Fields Info: null
Ownership Based AccessControl For Rasters: null
Child Resources:
Info
Histograms
Statistics
Key Properties
Legend
Raster Function Infos
Supported Operations:
Export Image
Identify
Measure
Compute Histograms
Compute Statistics Histograms
Get Samples
Compute Class Statistics
Query Boundary
Compute Pixel Location
Compute Angles
Validate
Project