View In:
ArcGIS JavaScript
ArcGIS Online Map Viewer
ArcGIS Earth
Service Description: The fuelscape consists of geospatial data layers representing surface fuel model, canopy cover, canopy height, canopy base height, canopy bulk density, and topography characteristics (slope, aspect, elevation), developed from raster data and edited based on feedback from interagency fuels and fire staff across the project area.
Name: TxWRAP/surface_fuel_model_img
Description: The fuelscape consists of geospatial data layers representing surface fuel model, canopy cover, canopy height, canopy base height, canopy bulk density, and topography characteristics (slope, aspect, elevation), developed from raster data and edited based on feedback from interagency fuels and fire staff across the project area.
Single Fused Map Cache: false
Extent:
XMin: -1.2123990552985873E7
YMin: 2848337.4371621246
XMax: -1.0152150552985873E7
YMax: 4522007.437162125
Spatial Reference: 102100
(3857)
LatestVCSWkid(0)
Initial Extent:
XMin: -1.2123990552985873E7
YMin: 2848337.4371621246
XMax: -1.0152150552985873E7
YMax: 4522007.437162125
Spatial Reference: 102100
(3857)
LatestVCSWkid(0)
Full Extent:
XMin: -1.2123990552985873E7
YMin: 2848337.4371621246
XMax: -1.0152150552985873E7
YMax: 4522007.437162125
Spatial Reference: 102100
(3857)
LatestVCSWkid(0)
Pixel Size X: 10.0
Pixel Size Y: 10.0
Band Count: 1
Pixel Type: U8
RasterFunction Infos: {"rasterFunctionInfos": [{
"name": "None",
"description": "",
"help": ""
}]}
Mensuration Capabilities: Basic
Inspection Capabilities:
Has Histograms: true
Has Colormap: false
Has Multi Dimensions : false
Rendering Rule:
Min Scale: 0
Max Scale: 0
Copyright Text: Primary data contact: Texas A&M Forest Service, Forest Resource Protection Division, Applied Technology Department. Send an email to TxWRAP-Support@tfs.tamu.edu for inquires. Visit www.TexasWildfireRisk.com for additional information.
This dataset was developed for the Texas Wildfire Risk Assessment by Pyrologix LLC (www.pyrologix.com), a subsidiary of Vibrant Planet (www.vibrantplanet.net).
Service Data Type: esriImageServiceDataTypeThematic
Min Values: 91
Max Values: 199
Mean Values: 118.86594939068
Standard Deviation Values: 29.938213080955
Object ID Field:
Fields:
None
Default Mosaic Method: Center
Allowed Mosaic Methods:
SortField:
SortValue: null
Mosaic Operator: First
Default Compression Quality: 75
Default Resampling Method: Bilinear
Max Record Count: null
Max Image Height: 4100
Max Image Width: 15000
Max Download Image Count: null
Max Mosaic Image Count: null
Allow Raster Function: true
Allow Copy: true
Allow Analysis: true
Allow Compute TiePoints: false
Supports Statistics: false
Supports Advanced Queries: false
Use StandardizedQueries: true
Raster Type Infos:
Name: Raster Dataset
Description: Supports all ArcGIS Raster Datasets
Help:
Has Raster Attribute Table: true
Edit Fields Info: null
Ownership Based AccessControl For Rasters: null
Child Resources:
Info
Raster Attribute Table
Histograms
Statistics
Key Properties
Legend
Raster Function Infos
Supported Operations:
Export Image
Identify
Measure
Compute Histograms
Compute Statistics Histograms
Get Samples
Compute Class Statistics
Query Boundary
Compute Pixel Location
Compute Angles
Validate
Project