View In:
ArcGIS JavaScript
ArcGIS Online Map Viewer
ArcGIS Earth
Service Description: TxWRAP/FIS_smooth_quad_img
Name: TxWRAP/FIS_smooth_quad_img
Description:
Single Fused Map Cache: false
Extent:
XMin: 1493848.4013999999
YMin: 6769377.338300001
XMax: 2282318.4014
YMax: 7467167.338300001
Spatial Reference: 102601
(3083)
LatestVCSWkid(0)
Initial Extent:
XMin: 1493848.4013999999
YMin: 6769377.338300001
XMax: 2282318.4014
YMax: 7467167.338300001
Spatial Reference: 102601
(3083)
LatestVCSWkid(0)
Full Extent:
XMin: 1493848.4013999999
YMin: 6769377.338300001
XMax: 2282318.4014
YMax: 7467167.338300001
Spatial Reference: 102601
(3083)
LatestVCSWkid(0)
Pixel Size X: 10.0
Pixel Size Y: 10.0
Band Count: 1
Pixel Type: S32
RasterFunction Infos: {"rasterFunctionInfos": [{
"name": "None",
"description": "",
"help": ""
}]}
Mensuration Capabilities: Basic
Inspection Capabilities:
Has Histograms: true
Has Colormap: false
Has Multi Dimensions : false
Rendering Rule:
Min Scale: 0
Max Scale: 0
Copyright Text:
Service Data Type: esriImageServiceDataTypeGeneric
Min Values: 0
Max Values: 79221
Mean Values: 3445.7739033919
Standard Deviation Values: 5515.264719482
Object ID Field:
Fields:
None
Default Mosaic Method: Center
Allowed Mosaic Methods:
SortField:
SortValue: null
Mosaic Operator: First
Default Compression Quality: 75
Default Resampling Method: Bilinear
Max Record Count: null
Max Image Height: 4100
Max Image Width: 15000
Max Download Image Count: null
Max Mosaic Image Count: null
Allow Raster Function: true
Allow Copy: true
Allow Analysis: true
Allow Compute TiePoints: false
Supports Statistics: false
Supports Advanced Queries: false
Use StandardizedQueries: true
Raster Type Infos:
Name: Raster Dataset
Description: Supports all ArcGIS Raster Datasets
Help:
Has Raster Attribute Table: false
Edit Fields Info: null
Ownership Based AccessControl For Rasters: null
Child Resources:
Info
Histograms
Statistics
Key Properties
Legend
Raster Function Infos
Supported Operations:
Export Image
Identify
Measure
Compute Histograms
Compute Statistics Histograms
Get Samples
Compute Class Statistics
Query Boundary
Compute Pixel Location
Compute Angles
Validate
Project